BEGIN:VCALENDAR
VERSION:2.0
PRODID:-//St Paul&#039;s Church | Parish of Glenageary | Co Dublin - ECPv5.16.4//NONSGML v1.0//EN
CALSCALE:GREGORIAN
METHOD:PUBLISH
X-ORIGINAL-URL:https://glenageary.dublin.anglican.org
X-WR-CALDESC:Events for St Paul&#039;s Church | Parish of Glenageary | Co Dublin
REFRESH-INTERVAL;VALUE=DURATION:PT1H
X-Robots-Tag:noindex
X-PUBLISHED-TTL:PT1H
BEGIN:VTIMEZONE
TZID:Europe/Dublin
BEGIN:STANDARD
TZOFFSETFROM:+0000
TZOFFSETTO:+0100
TZNAME:IST
DTSTART:20230326T010000
END:STANDARD
BEGIN:DAYLIGHT
TZOFFSETFROM:+0100
TZOFFSETTO:+0000
TZNAME:GMT
DTSTART:20231029T010000
END:DAYLIGHT
END:VTIMEZONE
BEGIN:VEVENT
DTSTART;VALUE=DATE:20230402
DTEND;VALUE=DATE:20230403
DTSTAMP:20260425T184645
CREATED:20230110T182254Z
LAST-MODIFIED:20230331T163553Z
UID:4354-1680393600-1680479999@glenageary.dublin.anglican.org
SUMMARY:Palm Sunday
DESCRIPTION:There will be a Liturgy for Palm Sunday at 10.30am.  Also services of Holy Communion at 8.15am and 7pm.
URL:https://glenageary.dublin.anglican.org/event/palm-sunday-3/
END:VEVENT
END:VCALENDAR