BEGIN:VCALENDAR
VERSION:2.0
PRODID:-//St Paul&#039;s Church | Parish of Glenageary | Co Dublin - ECPv5.16.4//NONSGML v1.0//EN
CALSCALE:GREGORIAN
METHOD:PUBLISH
X-ORIGINAL-URL:https://glenageary.dublin.anglican.org
X-WR-CALDESC:Events for St Paul&#039;s Church | Parish of Glenageary | Co Dublin
REFRESH-INTERVAL;VALUE=DURATION:PT1H
X-Robots-Tag:noindex
X-PUBLISHED-TTL:PT1H
BEGIN:VTIMEZONE
TZID:Europe/Dublin
BEGIN:STANDARD
TZOFFSETFROM:+0000
TZOFFSETTO:+0100
TZNAME:IST
DTSTART:20230326T010000
END:STANDARD
BEGIN:DAYLIGHT
TZOFFSETFROM:+0100
TZOFFSETTO:+0000
TZNAME:GMT
DTSTART:20231029T010000
END:DAYLIGHT
END:VTIMEZONE
BEGIN:VEVENT
DTSTART;VALUE=DATE:20230404
DTEND;VALUE=DATE:20230405
DTSTAMP:20260425T182500
CREATED:20230311T120259Z
LAST-MODIFIED:20230311T120909Z
UID:4449-1680566400-1680652799@glenageary.dublin.anglican.org
SUMMARY:Tuesday of Holy Week
DESCRIPTION:7.15 am Holy Communion in St Paul’s;  8 pm ‘Cluster’ service in St Matthias\, Killiney/Ballybrack: Preacher The Rev Gary Dowd
URL:https://glenageary.dublin.anglican.org/event/tuesday-of-holy-week/
END:VEVENT
END:VCALENDAR