BEGIN:VCALENDAR
VERSION:2.0
PRODID:-//St Paul&#039;s Church | Parish of Glenageary | Co Dublin - ECPv5.16.4//NONSGML v1.0//EN
CALSCALE:GREGORIAN
METHOD:PUBLISH
X-ORIGINAL-URL:https://glenageary.dublin.anglican.org
X-WR-CALDESC:Events for St Paul&#039;s Church | Parish of Glenageary | Co Dublin
REFRESH-INTERVAL;VALUE=DURATION:PT1H
X-Robots-Tag:noindex
X-PUBLISHED-TTL:PT1H
BEGIN:VTIMEZONE
TZID:Europe/Dublin
BEGIN:STANDARD
TZOFFSETFROM:+0000
TZOFFSETTO:+0100
TZNAME:IST
DTSTART:20230326T010000
END:STANDARD
BEGIN:DAYLIGHT
TZOFFSETFROM:+0100
TZOFFSETTO:+0000
TZNAME:GMT
DTSTART:20231029T010000
END:DAYLIGHT
END:VTIMEZONE
BEGIN:VEVENT
DTSTART;VALUE=DATE:20230409
DTEND;VALUE=DATE:20230410
DTSTAMP:20260425T234051
CREATED:20230110T182333Z
LAST-MODIFIED:20230311T121047Z
UID:4356-1680998400-1681084799@glenageary.dublin.anglican.org
SUMMARY:Easter Sunday
DESCRIPTION:SonRise Service on Killiney Beach at 6.40 am (Please note change of location) More details to follow; 8.15 am Holy Communion and 10.30 am Parish Communion in St Paul’s
URL:https://glenageary.dublin.anglican.org/event/easter-sunday-2/
END:VEVENT
END:VCALENDAR