BEGIN:VCALENDAR
VERSION:2.0
PRODID:-//St Paul&#039;s Church | Parish of Glenageary | Co Dublin - ECPv5.16.4//NONSGML v1.0//EN
CALSCALE:GREGORIAN
METHOD:PUBLISH
X-ORIGINAL-URL:https://glenageary.dublin.anglican.org
X-WR-CALDESC:Events for St Paul&#039;s Church | Parish of Glenageary | Co Dublin
REFRESH-INTERVAL;VALUE=DURATION:PT1H
X-Robots-Tag:noindex
X-PUBLISHED-TTL:PT1H
BEGIN:VTIMEZONE
TZID:Europe/Dublin
BEGIN:STANDARD
TZOFFSETFROM:+0000
TZOFFSETTO:+0100
TZNAME:IST
DTSTART:20230326T010000
END:STANDARD
BEGIN:DAYLIGHT
TZOFFSETFROM:+0100
TZOFFSETTO:+0000
TZNAME:GMT
DTSTART:20231029T010000
END:DAYLIGHT
END:VTIMEZONE
BEGIN:VEVENT
DTSTART;TZID=Europe/Dublin:20231105T103000
DTEND;TZID=Europe/Dublin:20231105T133000
DTSTAMP:20260424T180615
CREATED:20231013T153420Z
LAST-MODIFIED:20231013T153420Z
UID:4744-1699180200-1699191000@glenageary.dublin.anglican.org
SUMMARY:Kisiizi Sunday
DESCRIPTION:A soup and roll lunch will be held after the 10.30am service in aid of Kisiizi Hospital in Uganda
URL:https://glenageary.dublin.anglican.org/event/kisiizi-sunday-2/
END:VEVENT
BEGIN:VEVENT
DTSTART;TZID=Europe/Dublin:20231105T190000
DTEND;TZID=Europe/Dublin:20231105T200000
DTSTAMP:20260424T180615
CREATED:20231013T153524Z
LAST-MODIFIED:20231013T153524Z
UID:4746-1699210800-1699214400@glenageary.dublin.anglican.org
SUMMARY:Service of remembrance for loved ones
DESCRIPTION:Annual evening service to remember and give thanks for loved ones who have died
URL:https://glenageary.dublin.anglican.org/event/service-of-remembrance-for-loved-ones/
END:VEVENT
END:VCALENDAR