BEGIN:VCALENDAR
VERSION:2.0
PRODID:-//St Paul&#039;s Church | Parish of Glenageary | Co Dublin - ECPv5.16.4//NONSGML v1.0//EN
CALSCALE:GREGORIAN
METHOD:PUBLISH
X-ORIGINAL-URL:https://glenageary.dublin.anglican.org
X-WR-CALDESC:Events for St Paul&#039;s Church | Parish of Glenageary | Co Dublin
REFRESH-INTERVAL;VALUE=DURATION:PT1H
X-Robots-Tag:noindex
X-PUBLISHED-TTL:PT1H
BEGIN:VTIMEZONE
TZID:Europe/Dublin
BEGIN:STANDARD
TZOFFSETFROM:+0000
TZOFFSETTO:+0100
TZNAME:IST
DTSTART:20230326T010000
END:STANDARD
BEGIN:DAYLIGHT
TZOFFSETFROM:+0100
TZOFFSETTO:+0000
TZNAME:GMT
DTSTART:20231029T010000
END:DAYLIGHT
END:VTIMEZONE
BEGIN:VEVENT
DTSTART;TZID=Europe/Dublin:20231119T173000
DTEND;TZID=Europe/Dublin:20231119T183000
DTSTAMP:20260425T143748
CREATED:20231013T153716Z
LAST-MODIFIED:20231013T153716Z
UID:4750-1700415000-1700418600@glenageary.dublin.anglican.org
SUMMARY:Informal all-age worship
DESCRIPTION:Monthly\, informal worship in the parish centre\, followed by refreshments
URL:https://glenageary.dublin.anglican.org/event/informal-all-age-worship-2/
END:VEVENT
END:VCALENDAR