BEGIN:VCALENDAR
VERSION:2.0
PRODID:-//St Paul&#039;s Church | Parish of Glenageary | Co Dublin - ECPv5.16.4//NONSGML v1.0//EN
CALSCALE:GREGORIAN
METHOD:PUBLISH
X-WR-CALNAME:St Paul&#039;s Church | Parish of Glenageary | Co Dublin
X-ORIGINAL-URL:https://glenageary.dublin.anglican.org
X-WR-CALDESC:Events for St Paul&#039;s Church | Parish of Glenageary | Co Dublin
REFRESH-INTERVAL;VALUE=DURATION:PT1H
X-Robots-Tag:noindex
X-PUBLISHED-TTL:PT1H
BEGIN:VTIMEZONE
TZID:Europe/Dublin
BEGIN:STANDARD
TZOFFSETFROM:+0000
TZOFFSETTO:+0100
TZNAME:IST
DTSTART:20240331T010000
END:STANDARD
BEGIN:DAYLIGHT
TZOFFSETFROM:+0100
TZOFFSETTO:+0000
TZNAME:GMT
DTSTART:20241027T010000
END:DAYLIGHT
END:VTIMEZONE
BEGIN:VEVENT
DTSTART;TZID=Europe/Dublin:20240213T200000
DTEND;TZID=Europe/Dublin:20240213T210000
DTSTAMP:20260423T221500
CREATED:20240122T185708Z
LAST-MODIFIED:20240122T185708Z
UID:4879-1707854400-1707858000@glenageary.dublin.anglican.org
SUMMARY:Select Vestry meets
DESCRIPTION:
URL:https://glenageary.dublin.anglican.org/event/select-vestry-meets-2/
LOCATION:Parish Centre
END:VEVENT
END:VCALENDAR