BEGIN:VCALENDAR
VERSION:2.0
PRODID:-//St Paul&#039;s Church | Parish of Glenageary | Co Dublin - ECPv5.16.4//NONSGML v1.0//EN
CALSCALE:GREGORIAN
METHOD:PUBLISH
X-ORIGINAL-URL:https://glenageary.dublin.anglican.org
X-WR-CALDESC:Events for St Paul&#039;s Church | Parish of Glenageary | Co Dublin
REFRESH-INTERVAL;VALUE=DURATION:PT1H
X-Robots-Tag:noindex
X-PUBLISHED-TTL:PT1H
BEGIN:VTIMEZONE
TZID:Europe/Dublin
BEGIN:STANDARD
TZOFFSETFROM:+0000
TZOFFSETTO:+0100
TZNAME:IST
DTSTART:20240331T010000
END:STANDARD
BEGIN:DAYLIGHT
TZOFFSETFROM:+0100
TZOFFSETTO:+0000
TZNAME:GMT
DTSTART:20241027T010000
END:DAYLIGHT
END:VTIMEZONE
BEGIN:VEVENT
DTSTART;TZID=Europe/Dublin:20240221T071500
DTEND;TZID=Europe/Dublin:20240221T113000
DTSTAMP:20260424T033948
CREATED:20240220T151423Z
LAST-MODIFIED:20240220T151505Z
UID:4923-1708499700-1708515000@glenageary.dublin.anglican.org
SUMMARY:Midweek Lenten Communion services
DESCRIPTION:Services of Holy Communion at both 7.15am and 11am on every Wednesday of Lent
URL:https://glenageary.dublin.anglican.org/event/midweek-lenten-communion-services/
LOCATION:St Paul’s Church\, Glenageary
END:VEVENT
END:VCALENDAR