BEGIN:VCALENDAR
VERSION:2.0
PRODID:-//St Paul&#039;s Church | Parish of Glenageary | Co Dublin - ECPv5.16.4//NONSGML v1.0//EN
CALSCALE:GREGORIAN
METHOD:PUBLISH
X-WR-CALNAME:St Paul&#039;s Church | Parish of Glenageary | Co Dublin
X-ORIGINAL-URL:https://glenageary.dublin.anglican.org
X-WR-CALDESC:Events for St Paul&#039;s Church | Parish of Glenageary | Co Dublin
REFRESH-INTERVAL;VALUE=DURATION:PT1H
X-Robots-Tag:noindex
X-PUBLISHED-TTL:PT1H
BEGIN:VTIMEZONE
TZID:Europe/Dublin
BEGIN:STANDARD
TZOFFSETFROM:+0000
TZOFFSETTO:+0100
TZNAME:IST
DTSTART:20240331T010000
END:STANDARD
BEGIN:DAYLIGHT
TZOFFSETFROM:+0100
TZOFFSETTO:+0000
TZNAME:GMT
DTSTART:20241027T010000
END:DAYLIGHT
END:VTIMEZONE
BEGIN:VEVENT
DTSTART;TZID=Europe/Dublin:20240302T193000
DTEND;TZID=Europe/Dublin:20240302T210000
DTSTAMP:20260423T210057
CREATED:20240130T120102Z
LAST-MODIFIED:20240130T120102Z
UID:4893-1709407800-1709413200@glenageary.dublin.anglican.org
SUMMARY:Classical Music Concert
DESCRIPTION:Ukrainian and international musicians present an evening of classical music. Free admission but donations at the door for Acquired Brain Injury Ireland would be welcome.
URL:https://glenageary.dublin.anglican.org/event/classical-music-concert-2/
LOCATION:St Paul’s Church\, Glenageary
END:VEVENT
END:VCALENDAR