BEGIN:VCALENDAR
VERSION:2.0
PRODID:-//St Paul&#039;s Church | Parish of Glenageary | Co Dublin - ECPv5.16.4//NONSGML v1.0//EN
CALSCALE:GREGORIAN
METHOD:PUBLISH
X-ORIGINAL-URL:https://glenageary.dublin.anglican.org
X-WR-CALDESC:Events for St Paul&#039;s Church | Parish of Glenageary | Co Dublin
REFRESH-INTERVAL;VALUE=DURATION:PT1H
X-Robots-Tag:noindex
X-PUBLISHED-TTL:PT1H
BEGIN:VTIMEZONE
TZID:Europe/Dublin
BEGIN:STANDARD
TZOFFSETFROM:+0000
TZOFFSETTO:+0100
TZNAME:IST
DTSTART:20240331T010000
END:STANDARD
BEGIN:DAYLIGHT
TZOFFSETFROM:+0100
TZOFFSETTO:+0000
TZNAME:GMT
DTSTART:20241027T010000
END:DAYLIGHT
END:VTIMEZONE
BEGIN:VEVENT
DTSTART;VALUE=DATE:20240324
DTEND;VALUE=DATE:20240325
DTSTAMP:20260423T235849
CREATED:20240130T120708Z
LAST-MODIFIED:20240130T120708Z
UID:4899-1711238400-1711324799@glenageary.dublin.anglican.org
SUMMARY:Palm Sunday
DESCRIPTION:The beginning of Holy Week
URL:https://glenageary.dublin.anglican.org/event/palm-sunday-4/
LOCATION:St Paul’s Church\, Glenageary
END:VEVENT
BEGIN:VEVENT
DTSTART;TZID=Europe/Dublin:20240324T173000
DTEND;TZID=Europe/Dublin:20240324T183000
DTSTAMP:20260423T235849
CREATED:20240130T121050Z
LAST-MODIFIED:20240130T121050Z
UID:4903-1711301400-1711305000@glenageary.dublin.anglican.org
SUMMARY:Informal Worship
DESCRIPTION:A gathering for all-age informal worship and refreshments afterwards
URL:https://glenageary.dublin.anglican.org/event/informal-worship-2/
LOCATION:Parish Centre
END:VEVENT
END:VCALENDAR