BEGIN:VCALENDAR
VERSION:2.0
PRODID:-//St Paul&#039;s Church | Parish of Glenageary | Co Dublin - ECPv5.16.4//NONSGML v1.0//EN
CALSCALE:GREGORIAN
METHOD:PUBLISH
X-ORIGINAL-URL:https://glenageary.dublin.anglican.org
X-WR-CALDESC:Events for St Paul&#039;s Church | Parish of Glenageary | Co Dublin
REFRESH-INTERVAL;VALUE=DURATION:PT1H
X-Robots-Tag:noindex
X-PUBLISHED-TTL:PT1H
BEGIN:VTIMEZONE
TZID:Europe/Dublin
BEGIN:STANDARD
TZOFFSETFROM:+0000
TZOFFSETTO:+0100
TZNAME:IST
DTSTART:20260329T010000
END:STANDARD
BEGIN:DAYLIGHT
TZOFFSETFROM:+0100
TZOFFSETTO:+0000
TZNAME:GMT
DTSTART:20261025T010000
END:DAYLIGHT
END:VTIMEZONE
BEGIN:VEVENT
DTSTART;TZID=Europe/Dublin:20260421T100000
DTEND;TZID=Europe/Dublin:20260421T120000
DTSTAMP:20260420T021507
CREATED:20260406T174457Z
LAST-MODIFIED:20260406T174457Z
UID:5828-1776765600-1776772800@glenageary.dublin.anglican.org
SUMMARY:Social coffee morning
DESCRIPTION:All invited for chat and coffee/tea/cake
URL:https://glenageary.dublin.anglican.org/event/social-coffee-morning-3/
LOCATION:Linney Room\, Parish Centrre
END:VEVENT
END:VCALENDAR