BEGIN:VCALENDAR
VERSION:2.0
PRODID:-//St Paul&#039;s Church | Parish of Glenageary | Co Dublin - ECPv5.16.4//NONSGML v1.0//EN
CALSCALE:GREGORIAN
METHOD:PUBLISH
X-WR-CALNAME:St Paul&#039;s Church | Parish of Glenageary | Co Dublin
X-ORIGINAL-URL:https://glenageary.dublin.anglican.org
X-WR-CALDESC:Events for St Paul&#039;s Church | Parish of Glenageary | Co Dublin
REFRESH-INTERVAL;VALUE=DURATION:PT1H
X-Robots-Tag:noindex
X-PUBLISHED-TTL:PT1H
BEGIN:VTIMEZONE
TZID:Europe/Dublin
BEGIN:STANDARD
TZOFFSETFROM:+0000
TZOFFSETTO:+0100
TZNAME:IST
DTSTART:20230326T010000
END:STANDARD
BEGIN:DAYLIGHT
TZOFFSETFROM:+0100
TZOFFSETTO:+0000
TZNAME:GMT
DTSTART:20231029T010000
END:DAYLIGHT
END:VTIMEZONE
BEGIN:VEVENT
DTSTART;TZID=Europe/Dublin:20230101T113000
DTEND;TZID=Europe/Dublin:20230101T123000
DTSTAMP:20260424T143901
CREATED:20221207T131241Z
LAST-MODIFIED:20221223T173338Z
UID:4286-1672572600-1672576200@glenageary.dublin.anglican.org
SUMMARY:New Year's Day service
DESCRIPTION:11.30 am (NB later time) Parish Communion with carols\, followed by coffee/tea in the Parish Centre \nNO 8.15am or 7pm services
URL:https://glenageary.dublin.anglican.org/event/new-years-day-service/
END:VEVENT
BEGIN:VEVENT
DTSTART;TZID=Europe/Dublin:20230115T173000
DTEND;TZID=Europe/Dublin:20230115T183000
DTSTAMP:20260424T143901
CREATED:20221226T144457Z
LAST-MODIFIED:20221226T144457Z
UID:4320-1673803800-1673807400@glenageary.dublin.anglican.org
SUMMARY:All-age Worship
DESCRIPTION:Informal family worship followed by refreshments
URL:https://glenageary.dublin.anglican.org/event/all-age-worship-2/
LOCATION:Parish Centre
END:VEVENT
END:VCALENDAR