BEGIN:VCALENDAR
VERSION:2.0
PRODID:-//St Paul&#039;s Church | Parish of Glenageary | Co Dublin - ECPv5.16.4//NONSGML v1.0//EN
CALSCALE:GREGORIAN
METHOD:PUBLISH
X-ORIGINAL-URL:https://glenageary.dublin.anglican.org
X-WR-CALDESC:Events for St Paul&#039;s Church | Parish of Glenageary | Co Dublin
REFRESH-INTERVAL;VALUE=DURATION:PT1H
X-Robots-Tag:noindex
X-PUBLISHED-TTL:PT1H
BEGIN:VTIMEZONE
TZID:Europe/Dublin
BEGIN:STANDARD
TZOFFSETFROM:+0000
TZOFFSETTO:+0100
TZNAME:IST
DTSTART:20230326T010000
END:STANDARD
BEGIN:DAYLIGHT
TZOFFSETFROM:+0100
TZOFFSETTO:+0000
TZNAME:GMT
DTSTART:20231029T010000
END:DAYLIGHT
END:VTIMEZONE
BEGIN:VEVENT
DTSTART;VALUE=DATE:20230317
DTEND;VALUE=DATE:20230318
DTSTAMP:20260425T174629
CREATED:20230110T181614Z
LAST-MODIFIED:20230311T114158Z
UID:4342-1679011200-1679097599@glenageary.dublin.anglican.org
SUMMARY:Holy Communion for St Patrick's Day
DESCRIPTION:A service of Holy Communion will be held at 11am
URL:https://glenageary.dublin.anglican.org/event/st-patricks-day-2/
END:VEVENT
BEGIN:VEVENT
DTSTART;VALUE=DATE:20230319
DTEND;VALUE=DATE:20230320
DTSTAMP:20260425T174629
CREATED:20230110T181638Z
LAST-MODIFIED:20230110T181638Z
UID:4344-1679184000-1679270399@glenageary.dublin.anglican.org
SUMMARY:Mothering Sunday
DESCRIPTION:
URL:https://glenageary.dublin.anglican.org/event/mothering-sunday-3/
END:VEVENT
BEGIN:VEVENT
DTSTART;TZID=Europe/Dublin:20230324T103000
DTEND;TZID=Europe/Dublin:20230324T123000
DTSTAMP:20260425T174629
CREATED:20230110T181738Z
LAST-MODIFIED:20230311T115636Z
UID:4346-1679653800-1679661000@glenageary.dublin.anglican.org
SUMMARY:Daffodil Day coffee morning
DESCRIPTION:Irish Cancer Society Daffodil Day Coffee Morning in Parish Centre.
URL:https://glenageary.dublin.anglican.org/event/daffodil-day-2/
LOCATION:Parish Centre
END:VEVENT
BEGIN:VEVENT
DTSTART;TZID=Europe/Dublin:20230325T190000
DTEND;TZID=Europe/Dublin:20230325T210000
DTSTAMP:20260425T174629
CREATED:20230311T115507Z
LAST-MODIFIED:20230311T115507Z
UID:4440-1679770800-1679778000@glenageary.dublin.anglican.org
SUMMARY:Concert of Ukrainian music
DESCRIPTION:The Club of Singing Diplomats and Co hosts a concert of Ukrainian music in aid of SOS Children’s Villages in Ukraine. Donations at door would be welcomed.
URL:https://glenageary.dublin.anglican.org/event/concert-of-ukrainian-music/
END:VEVENT
BEGIN:VEVENT
DTSTART;TZID=Europe/Dublin:20230326T110000
DTEND;TZID=Europe/Dublin:20230326T123000
DTSTAMP:20260425T174629
CREATED:20230110T182052Z
LAST-MODIFIED:20230306T202100Z
UID:4350-1679828400-1679833800@glenageary.dublin.anglican.org
SUMMARY:Parish AGM
DESCRIPTION:Annual Easter General Vestry Meeting (Parish AGM) to be held after 10.30am service
URL:https://glenageary.dublin.anglican.org/event/provisional-date-for-parish-agm/
LOCATION:Parish Centre
END:VEVENT
BEGIN:VEVENT
DTSTART;TZID=Europe/Dublin:20230326T173000
DTEND;TZID=Europe/Dublin:20230326T183000
DTSTAMP:20260425T174629
CREATED:20230110T182156Z
LAST-MODIFIED:20230110T182717Z
UID:4352-1679851800-1679855400@glenageary.dublin.anglican.org
SUMMARY:All-age worship
DESCRIPTION:All Age Worship in the main hall of the Parish Centre 5.30 pm followed by refreshments.
URL:https://glenageary.dublin.anglican.org/event/all-age-worship-4/
LOCATION:Parish Centre
END:VEVENT
END:VCALENDAR