BEGIN:VCALENDAR
VERSION:2.0
PRODID:-//St Paul&#039;s Church | Parish of Glenageary | Co Dublin - ECPv5.16.4//NONSGML v1.0//EN
CALSCALE:GREGORIAN
METHOD:PUBLISH
X-ORIGINAL-URL:https://glenageary.dublin.anglican.org
X-WR-CALDESC:Events for St Paul&#039;s Church | Parish of Glenageary | Co Dublin
REFRESH-INTERVAL;VALUE=DURATION:PT1H
X-Robots-Tag:noindex
X-PUBLISHED-TTL:PT1H
BEGIN:VTIMEZONE
TZID:Europe/Dublin
BEGIN:STANDARD
TZOFFSETFROM:+0000
TZOFFSETTO:+0100
TZNAME:IST
DTSTART:20230326T010000
END:STANDARD
BEGIN:DAYLIGHT
TZOFFSETFROM:+0100
TZOFFSETTO:+0000
TZNAME:GMT
DTSTART:20231029T010000
END:DAYLIGHT
END:VTIMEZONE
BEGIN:VEVENT
DTSTART;TZID=Europe/Dublin:20230610T173000
DTEND;TZID=Europe/Dublin:20230610T193000
DTSTAMP:20260426T035315
CREATED:20230205T050741Z
LAST-MODIFIED:20230205T050741Z
UID:4395-1686418200-1686425400@glenageary.dublin.anglican.org
SUMMARY:Young families social evening
DESCRIPTION:
URL:https://glenageary.dublin.anglican.org/event/young-families-social-evening/
LOCATION:Parish Centre
END:VEVENT
BEGIN:VEVENT
DTSTART;TZID=Europe/Dublin:20230615T200000
DTEND;TZID=Europe/Dublin:20230615T213000
DTSTAMP:20260426T035315
CREATED:20230612T132421Z
LAST-MODIFIED:20230612T132421Z
UID:4588-1686859200-1686864600@glenageary.dublin.anglican.org
SUMMARY:Free concert of Icelandic music
DESCRIPTION:Free admission to concert by a visiting choir\, Samkór Reykjavíkur from Iceland
URL:https://glenageary.dublin.anglican.org/event/free-concert-of-icelandic-music/
LOCATION:St Paul’s Church\, Glenageary
END:VEVENT
END:VCALENDAR