BEGIN:VCALENDAR
VERSION:2.0
PRODID:-//St Paul&#039;s Church | Parish of Glenageary | Co Dublin - ECPv5.16.4//NONSGML v1.0//EN
CALSCALE:GREGORIAN
METHOD:PUBLISH
X-ORIGINAL-URL:https://glenageary.dublin.anglican.org
X-WR-CALDESC:Events for St Paul&#039;s Church | Parish of Glenageary | Co Dublin
REFRESH-INTERVAL;VALUE=DURATION:PT1H
X-Robots-Tag:noindex
X-PUBLISHED-TTL:PT1H
BEGIN:VTIMEZONE
TZID:Europe/Dublin
BEGIN:STANDARD
TZOFFSETFROM:+0000
TZOFFSETTO:+0100
TZNAME:IST
DTSTART:20230326T010000
END:STANDARD
BEGIN:DAYLIGHT
TZOFFSETFROM:+0100
TZOFFSETTO:+0000
TZNAME:GMT
DTSTART:20231029T010000
END:DAYLIGHT
END:VTIMEZONE
BEGIN:VEVENT
DTSTART;VALUE=DATE:20230902
DTEND;VALUE=DATE:20230903
DTSTAMP:20260426T030357
CREATED:20230331T164046Z
LAST-MODIFIED:20230623T151438Z
UID:4492-1693612800-1693699199@glenageary.dublin.anglican.org
SUMMARY:Parish outing to Waterford
DESCRIPTION:Our annual parish outing will be to Waterford city this year. More details to follow\,
URL:https://glenageary.dublin.anglican.org/event/parish-outing-2/
END:VEVENT
BEGIN:VEVENT
DTSTART;TZID=Europe/Dublin:20230903T120000
DTEND;TZID=Europe/Dublin:20230903T140000
DTSTAMP:20260426T030357
CREATED:20230331T164209Z
LAST-MODIFIED:20230331T164209Z
UID:4494-1693742400-1693749600@glenageary.dublin.anglican.org
SUMMARY:Outdoor service and family barbecue
DESCRIPTION:Annual event to welcome everybody back after the summer holidays
URL:https://glenageary.dublin.anglican.org/event/outdoor-service-and-family-barbecue-2/
END:VEVENT
END:VCALENDAR