BEGIN:VCALENDAR
VERSION:2.0
PRODID:-//St Paul&#039;s Church | Parish of Glenageary | Co Dublin - ECPv5.16.4//NONSGML v1.0//EN
CALSCALE:GREGORIAN
METHOD:PUBLISH
X-ORIGINAL-URL:https://glenageary.dublin.anglican.org
X-WR-CALDESC:Events for St Paul&#039;s Church | Parish of Glenageary | Co Dublin
REFRESH-INTERVAL;VALUE=DURATION:PT1H
X-Robots-Tag:noindex
X-PUBLISHED-TTL:PT1H
BEGIN:VTIMEZONE
TZID:Europe/Dublin
BEGIN:STANDARD
TZOFFSETFROM:+0000
TZOFFSETTO:+0100
TZNAME:IST
DTSTART:20230326T010000
END:STANDARD
BEGIN:DAYLIGHT
TZOFFSETFROM:+0100
TZOFFSETTO:+0000
TZNAME:GMT
DTSTART:20231029T010000
END:DAYLIGHT
END:VTIMEZONE
BEGIN:VEVENT
DTSTART;TZID=Europe/Dublin:20231202T130000
DTEND;TZID=Europe/Dublin:20231202T140000
DTSTAMP:20260424T163515
CREATED:20231117T212528Z
LAST-MODIFIED:20231117T212528Z
UID:4777-1701522000-1701525600@glenageary.dublin.anglican.org
SUMMARY:Seasonal lunchtime concert
DESCRIPTION:Instrumental and vocal music for Advent/Christmas by Caroline Barnes and her three sisters
URL:https://glenageary.dublin.anglican.org/event/seasonal-lunchtime-concert/
END:VEVENT
BEGIN:VEVENT
DTSTART;TZID=Europe/Dublin:20231203T103000
DTEND;TZID=Europe/Dublin:20231203T113000
DTSTAMP:20260424T163515
CREATED:20231117T212636Z
LAST-MODIFIED:20231117T212636Z
UID:4779-1701599400-1701603000@glenageary.dublin.anglican.org
SUMMARY:Advent Carol Service
DESCRIPTION:Starting the countdown to Christmas
URL:https://glenageary.dublin.anglican.org/event/advent-carol-service-2/
LOCATION:St Paul’s Church\, Glenageary
END:VEVENT
BEGIN:VEVENT
DTSTART;TZID=Europe/Dublin:20231209T173000
DTEND;TZID=Europe/Dublin:20231209T193000
DTSTAMP:20260424T163515
CREATED:20231117T212809Z
LAST-MODIFIED:20231117T212809Z
UID:4781-1702143000-1702150200@glenageary.dublin.anglican.org
SUMMARY:Move4Parkinsons Concert
DESCRIPTION:“Hope for Peace” featuring the Voices of Hope choir\, St Nicholas Montessori School and the Stedfast Band
URL:https://glenageary.dublin.anglican.org/event/move4parkinsons-concert/
END:VEVENT
BEGIN:VEVENT
DTSTART;TZID=Europe/Dublin:20231210T173000
DTEND;TZID=Europe/Dublin:20231210T183000
DTSTAMP:20260424T163515
CREATED:20231117T212945Z
LAST-MODIFIED:20231117T212945Z
UID:4783-1702229400-1702233000@glenageary.dublin.anglican.org
SUMMARY:Christingle Service
DESCRIPTION:Informal worship in the parish centre and switching on of the lights on the outdoor tree
URL:https://glenageary.dublin.anglican.org/event/christingle-service-2/
LOCATION:Parish Centre
END:VEVENT
BEGIN:VEVENT
DTSTART;TZID=Europe/Dublin:20231217T190000
DTEND;TZID=Europe/Dublin:20231217T200000
DTSTAMP:20260424T163515
CREATED:20231117T213056Z
LAST-MODIFIED:20231117T213056Z
UID:4785-1702839600-1702843200@glenageary.dublin.anglican.org
SUMMARY:Service of Nine Lessons and Carols
DESCRIPTION:Traditional service by candlelight
URL:https://glenageary.dublin.anglican.org/event/service-of-nine-lessons-and-carols/
LOCATION:St Paul’s Church\, Glenageary
END:VEVENT
BEGIN:VEVENT
DTSTART;TZID=Europe/Dublin:20231224T233000
DTEND;TZID=Europe/Dublin:20231224T233000
DTSTAMP:20260424T163515
CREATED:20231117T213237Z
LAST-MODIFIED:20231117T213237Z
UID:4787-1703460600-1703460600@glenageary.dublin.anglican.org
SUMMARY:First Eucharist of Christmas
DESCRIPTION:
URL:https://glenageary.dublin.anglican.org/event/first-eucharist-of-christmas/
END:VEVENT
BEGIN:VEVENT
DTSTART;VALUE=DATE:20231225
DTEND;VALUE=DATE:20231226
DTSTAMP:20260424T163515
CREATED:20231117T213350Z
LAST-MODIFIED:20231117T213350Z
UID:4789-1703462400-1703548799@glenageary.dublin.anglican.org
SUMMARY:Christmas Day services
DESCRIPTION:Holy Communion at 8.15am; Family Service at 10.30am
URL:https://glenageary.dublin.anglican.org/event/christmas-day-services-3/
END:VEVENT
BEGIN:VEVENT
DTSTART;TZID=Europe/Dublin:20231231T080000
DTEND;TZID=Europe/Dublin:20231231T110000
DTSTAMP:20260424T163515
CREATED:20231219T173001Z
LAST-MODIFIED:20231219T173001Z
UID:4838-1704009600-1704020400@glenageary.dublin.anglican.org
SUMMARY:New Year's Eve services
DESCRIPTION:8.15 am Holy Communion; 10.30am Parish Communion with Carols; 7 pm No Service
URL:https://glenageary.dublin.anglican.org/event/new-years-eve-services/
LOCATION:St Paul’s Church\, Glenageary
END:VEVENT
END:VCALENDAR