BEGIN:VCALENDAR
VERSION:2.0
PRODID:-//St Paul&#039;s Church | Parish of Glenageary | Co Dublin - ECPv5.16.4//NONSGML v1.0//EN
CALSCALE:GREGORIAN
METHOD:PUBLISH
X-WR-CALNAME:St Paul&#039;s Church | Parish of Glenageary | Co Dublin
X-ORIGINAL-URL:https://glenageary.dublin.anglican.org
X-WR-CALDESC:Events for St Paul&#039;s Church | Parish of Glenageary | Co Dublin
REFRESH-INTERVAL;VALUE=DURATION:PT1H
X-Robots-Tag:noindex
X-PUBLISHED-TTL:PT1H
BEGIN:VTIMEZONE
TZID:Europe/Dublin
BEGIN:STANDARD
TZOFFSETFROM:+0000
TZOFFSETTO:+0100
TZNAME:IST
DTSTART:20240331T010000
END:STANDARD
BEGIN:DAYLIGHT
TZOFFSETFROM:+0100
TZOFFSETTO:+0000
TZNAME:GMT
DTSTART:20241027T010000
END:DAYLIGHT
END:VTIMEZONE
BEGIN:VEVENT
DTSTART;VALUE=DATE:20240201
DTEND;VALUE=DATE:20240202
DTSTAMP:20260423T192356
CREATED:20240130T115705Z
LAST-MODIFIED:20240130T115705Z
UID:4889-1706745600-1706831999@glenageary.dublin.anglican.org
SUMMARY:St Brigid's Day
DESCRIPTION:
URL:https://glenageary.dublin.anglican.org/event/st-brigids-day-2/
END:VEVENT
BEGIN:VEVENT
DTSTART;TZID=Europe/Dublin:20240213T200000
DTEND;TZID=Europe/Dublin:20240213T210000
DTSTAMP:20260423T192356
CREATED:20240122T185708Z
LAST-MODIFIED:20240122T185708Z
UID:4879-1707854400-1707858000@glenageary.dublin.anglican.org
SUMMARY:Select Vestry meets
DESCRIPTION:
URL:https://glenageary.dublin.anglican.org/event/select-vestry-meets-2/
LOCATION:Parish Centre
END:VEVENT
BEGIN:VEVENT
DTSTART;VALUE=DATE:20240214
DTEND;VALUE=DATE:20240215
DTSTAMP:20260423T192356
CREATED:20240122T185807Z
LAST-MODIFIED:20240213T115111Z
UID:4881-1707868800-1707955199@glenageary.dublin.anglican.org
SUMMARY:Ash Wednesday
DESCRIPTION:Services of Holy Communion at 7.15am and 11am to mark the start of Lent
URL:https://glenageary.dublin.anglican.org/event/ash-wednesday-4/
LOCATION:St Paul’s Church\, Glenageary
END:VEVENT
BEGIN:VEVENT
DTSTART;TZID=Europe/Dublin:20240218T173000
DTEND;TZID=Europe/Dublin:20240218T183000
DTSTAMP:20260423T192356
CREATED:20240130T115836Z
LAST-MODIFIED:20240130T115836Z
UID:4891-1708277400-1708281000@glenageary.dublin.anglican.org
SUMMARY:Informal worship
DESCRIPTION:A monthly gathering at 5.30pm in the parish centre for informal worship and refreshments afterwards.
URL:https://glenageary.dublin.anglican.org/event/informal-worship/
LOCATION:Parish Centre
END:VEVENT
BEGIN:VEVENT
DTSTART;TZID=Europe/Dublin:20240221T071500
DTEND;TZID=Europe/Dublin:20240221T113000
DTSTAMP:20260423T192356
CREATED:20240220T151423Z
LAST-MODIFIED:20240220T151505Z
UID:4923-1708499700-1708515000@glenageary.dublin.anglican.org
SUMMARY:Midweek Lenten Communion services
DESCRIPTION:Services of Holy Communion at both 7.15am and 11am on every Wednesday of Lent
URL:https://glenageary.dublin.anglican.org/event/midweek-lenten-communion-services/
LOCATION:St Paul’s Church\, Glenageary
END:VEVENT
END:VCALENDAR