BEGIN:VCALENDAR
VERSION:2.0
PRODID:-//St Paul&#039;s Church | Parish of Glenageary | Co Dublin - ECPv5.16.4//NONSGML v1.0//EN
CALSCALE:GREGORIAN
METHOD:PUBLISH
X-WR-CALNAME:St Paul&#039;s Church | Parish of Glenageary | Co Dublin
X-ORIGINAL-URL:https://glenageary.dublin.anglican.org
X-WR-CALDESC:Events for St Paul&#039;s Church | Parish of Glenageary | Co Dublin
REFRESH-INTERVAL;VALUE=DURATION:PT1H
X-Robots-Tag:noindex
X-PUBLISHED-TTL:PT1H
BEGIN:VTIMEZONE
TZID:Europe/Dublin
BEGIN:STANDARD
TZOFFSETFROM:+0000
TZOFFSETTO:+0100
TZNAME:IST
DTSTART:20240331T010000
END:STANDARD
BEGIN:DAYLIGHT
TZOFFSETFROM:+0100
TZOFFSETTO:+0000
TZNAME:GMT
DTSTART:20241027T010000
END:DAYLIGHT
END:VTIMEZONE
BEGIN:VEVENT
DTSTART;TZID=Europe/Dublin:20240302T193000
DTEND;TZID=Europe/Dublin:20240302T210000
DTSTAMP:20260423T073448
CREATED:20240130T120102Z
LAST-MODIFIED:20240130T120102Z
UID:4893-1709407800-1709413200@glenageary.dublin.anglican.org
SUMMARY:Classical Music Concert
DESCRIPTION:Ukrainian and international musicians present an evening of classical music. Free admission but donations at the door for Acquired Brain Injury Ireland would be welcome.
URL:https://glenageary.dublin.anglican.org/event/classical-music-concert-2/
LOCATION:St Paul’s Church\, Glenageary
END:VEVENT
BEGIN:VEVENT
DTSTART;VALUE=DATE:20240310
DTEND;VALUE=DATE:20240311
DTSTAMP:20260423T073448
CREATED:20240130T120226Z
LAST-MODIFIED:20240130T120226Z
UID:4895-1710028800-1710115199@glenageary.dublin.anglican.org
SUMMARY:Mothering Sunday
DESCRIPTION:
URL:https://glenageary.dublin.anglican.org/event/mothering-sunday-4/
END:VEVENT
BEGIN:VEVENT
DTSTART;TZID=Europe/Dublin:20240321T131500
DTEND;TZID=Europe/Dublin:20240321T140000
DTSTAMP:20260423T073448
CREATED:20240213T115222Z
LAST-MODIFIED:20240227T161326Z
UID:4917-1711026900-1711029600@glenageary.dublin.anglican.org
SUMMARY:Pipeworks organ recital
DESCRIPTION:A lunchtime organ recital by David O’Shea
URL:https://glenageary.dublin.anglican.org/event/pipeworks-organ-recital/
LOCATION:St Paul’s Church\, Glenageary
END:VEVENT
BEGIN:VEVENT
DTSTART;TZID=Europe/Dublin:20240322T103000
DTEND;TZID=Europe/Dublin:20240322T123000
DTSTAMP:20260423T073448
CREATED:20240130T120359Z
LAST-MODIFIED:20240130T120359Z
UID:4897-1711103400-1711110600@glenageary.dublin.anglican.org
SUMMARY:Daffodil Day Coffee Morning
DESCRIPTION:A fund-raising coffee morning in aid of the Irish Cancer Society 
URL:https://glenageary.dublin.anglican.org/event/daffodil-day-coffee-morning/
LOCATION:Parish Centre
END:VEVENT
BEGIN:VEVENT
DTSTART;VALUE=DATE:20240324
DTEND;VALUE=DATE:20240325
DTSTAMP:20260423T073448
CREATED:20240130T120708Z
LAST-MODIFIED:20240130T120708Z
UID:4899-1711238400-1711324799@glenageary.dublin.anglican.org
SUMMARY:Palm Sunday
DESCRIPTION:The beginning of Holy Week
URL:https://glenageary.dublin.anglican.org/event/palm-sunday-4/
LOCATION:St Paul’s Church\, Glenageary
END:VEVENT
BEGIN:VEVENT
DTSTART;TZID=Europe/Dublin:20240324T173000
DTEND;TZID=Europe/Dublin:20240324T183000
DTSTAMP:20260423T073448
CREATED:20240130T121050Z
LAST-MODIFIED:20240130T121050Z
UID:4903-1711301400-1711305000@glenageary.dublin.anglican.org
SUMMARY:Informal Worship
DESCRIPTION:A gathering for all-age informal worship and refreshments afterwards
URL:https://glenageary.dublin.anglican.org/event/informal-worship-2/
LOCATION:Parish Centre
END:VEVENT
BEGIN:VEVENT
DTSTART;VALUE=DATE:20240331
DTEND;VALUE=DATE:20240401
DTSTAMP:20260423T073448
CREATED:20240130T120847Z
LAST-MODIFIED:20240130T120847Z
UID:4901-1711843200-1711929599@glenageary.dublin.anglican.org
SUMMARY:Easter Sunday
DESCRIPTION:
URL:https://glenageary.dublin.anglican.org/event/easter-sunday-3/
LOCATION:St Paul’s Church\, Glenageary
END:VEVENT
END:VCALENDAR