BEGIN:VCALENDAR
VERSION:2.0
PRODID:-//St Paul&#039;s Church | Parish of Glenageary | Co Dublin - ECPv5.16.4//NONSGML v1.0//EN
CALSCALE:GREGORIAN
METHOD:PUBLISH
X-WR-CALNAME:St Paul&#039;s Church | Parish of Glenageary | Co Dublin
X-ORIGINAL-URL:https://glenageary.dublin.anglican.org
X-WR-CALDESC:Events for St Paul&#039;s Church | Parish of Glenageary | Co Dublin
REFRESH-INTERVAL;VALUE=DURATION:PT1H
X-Robots-Tag:noindex
X-PUBLISHED-TTL:PT1H
BEGIN:VTIMEZONE
TZID:Europe/Dublin
BEGIN:STANDARD
TZOFFSETFROM:+0000
TZOFFSETTO:+0100
TZNAME:IST
DTSTART:20240331T010000
END:STANDARD
BEGIN:DAYLIGHT
TZOFFSETFROM:+0100
TZOFFSETTO:+0000
TZNAME:GMT
DTSTART:20241027T010000
END:DAYLIGHT
END:VTIMEZONE
BEGIN:VEVENT
DTSTART;TZID=Europe/Dublin:20240414T110000
DTEND;TZID=Europe/Dublin:20240414T123000
DTSTAMP:20260420T061728
CREATED:20240326T234204Z
LAST-MODIFIED:20240326T234204Z
UID:4960-1713092400-1713097800@glenageary.dublin.anglican.org
SUMMARY:Parish AGM
DESCRIPTION:The Easter Annual Vestry (AGM)  is after the 10.30am service
URL:https://glenageary.dublin.anglican.org/event/parish-agm-2/
LOCATION:Parish Centre
END:VEVENT
BEGIN:VEVENT
DTSTART;TZID=Europe/Dublin:20240421T173000
DTEND;TZID=Europe/Dublin:20240421T183000
DTSTAMP:20260420T061728
CREATED:20240326T234323Z
LAST-MODIFIED:20240326T234639Z
UID:4962-1713720600-1713724200@glenageary.dublin.anglican.org
SUMMARY:Informal worship
DESCRIPTION:Monthly  informal worship in the parish centre followed by refreshments
URL:https://glenageary.dublin.anglican.org/event/informal-worship-3/
LOCATION:Parish Centre
END:VEVENT
END:VCALENDAR