BEGIN:VCALENDAR
VERSION:2.0
PRODID:-//St Paul&#039;s Church | Parish of Glenageary | Co Dublin - ECPv5.16.4//NONSGML v1.0//EN
CALSCALE:GREGORIAN
METHOD:PUBLISH
X-ORIGINAL-URL:https://glenageary.dublin.anglican.org
X-WR-CALDESC:Events for St Paul&#039;s Church | Parish of Glenageary | Co Dublin
REFRESH-INTERVAL;VALUE=DURATION:PT1H
X-Robots-Tag:noindex
X-PUBLISHED-TTL:PT1H
BEGIN:VTIMEZONE
TZID:Europe/Dublin
BEGIN:STANDARD
TZOFFSETFROM:+0000
TZOFFSETTO:+0100
TZNAME:IST
DTSTART:20260329T010000
END:STANDARD
BEGIN:DAYLIGHT
TZOFFSETFROM:+0100
TZOFFSETTO:+0000
TZNAME:GMT
DTSTART:20261025T010000
END:DAYLIGHT
END:VTIMEZONE
BEGIN:VEVENT
DTSTART;TZID=Europe/Dublin:20260118T173000
DTEND;TZID=Europe/Dublin:20260118T183000
DTSTAMP:20260425T192826
CREATED:20260107T105944Z
LAST-MODIFIED:20260107T105944Z
UID:5717-1768757400-1768761000@glenageary.dublin.anglican.org
SUMMARY:Monthly informal worship
DESCRIPTION:Informal Service in the Parish Centre for all ages  followed by refreshments
URL:https://glenageary.dublin.anglican.org/event/monthly-informal-worship-2/
LOCATION:Parish Centre
END:VEVENT
BEGIN:VEVENT
DTSTART;TZID=Europe/Dublin:20260120T100000
DTEND;TZID=Europe/Dublin:20260120T120000
DTSTAMP:20260425T192826
CREATED:20260107T110131Z
LAST-MODIFIED:20260107T110131Z
UID:5719-1768903200-1768910400@glenageary.dublin.anglican.org
SUMMARY:Social coffee morning
DESCRIPTION:Social Parish Coffee Morning to which everybody is invited for a cuppa and a chat
URL:https://glenageary.dublin.anglican.org/event/social-coffee-morning-2/
LOCATION:Linney Room\, Parish Centrre
END:VEVENT
END:VCALENDAR